BEGIN:VCALENDAR
VERSION:2.0
PRODID:-//Equipo ciclista Cartucho.es - ECPv4.5.9//NONSGML v1.0//EN
CALSCALE:GREGORIAN
METHOD:PUBLISH
X-WR-CALNAME:Equipo ciclista Cartucho.es
X-ORIGINAL-URL:https://eccartucho.es
X-WR-CALDESC:Events for Equipo ciclista Cartucho.es
BEGIN:VEVENT
DTSTART;TZID=UTC+0:20160628T080000
DTEND;TZID=UTC+0:20160629T170000
DTSTAMP:20260419T143954
CREATED:20160109T213642Z
LAST-MODIFIED:20160109T213642Z
UID:585-1467100800-1467219600@eccartucho.es
SUMMARY:LIV VUELTA A SEGOVIA
DESCRIPTION:LIV VUELTA A SEGOVIA \n
URL:https://eccartucho.es/calendario/liv-vuelta-a-segovia/
LOCATION:Segovia\, Segovia\, España
END:VEVENT
END:VCALENDAR