BEGIN:VCALENDAR
VERSION:2.0
PRODID:-//Equipo ciclista Cartucho.es - ECPv4.5.9//NONSGML v1.0//EN
CALSCALE:GREGORIAN
METHOD:PUBLISH
X-WR-CALNAME:Equipo ciclista Cartucho.es
X-ORIGINAL-URL:https://eccartucho.es
X-WR-CALDESC:Events for Equipo ciclista Cartucho.es
BEGIN:VEVENT
DTSTART;TZID=UTC+0:20170519T080000
DTEND;TZID=UTC+0:20170520T170000
DTSTAMP:20260421T093214
CREATED:20170314T135122Z
LAST-MODIFIED:20170314T135122Z
UID:2859-1495180800-1495299600@eccartucho.es
SUMMARY:II Ruta Ciclista de los Castillos y las Batallas de Jaén
DESCRIPTION:II Ruta Ciclista de los Castillos y las Batallas de Jaén \n
URL:https://eccartucho.es/calendario/ii-ruta-ciclista-los-castillos-las-batallas-jaen/
LOCATION:Jaén\, Jaén\, España
END:VEVENT
END:VCALENDAR