BEGIN:VCALENDAR
VERSION:2.0
PRODID:-//Equipo ciclista Cartucho.es - ECPv4.5.9//NONSGML v1.0//EN
CALSCALE:GREGORIAN
METHOD:PUBLISH
X-WR-CALNAME:Equipo ciclista Cartucho.es
X-ORIGINAL-URL:https://eccartucho.es
X-WR-CALDESC:Events for Equipo ciclista Cartucho.es
BEGIN:VEVENT
DTSTART;TZID=UTC+0:20170623T080000
DTEND;TZID=UTC+0:20170624T170000
DTSTAMP:20260421T075506
CREATED:20170314T140504Z
LAST-MODIFIED:20170314T140504Z
UID:2890-1498204800-1498323600@eccartucho.es
SUMMARY:Campeonato de España 23
DESCRIPTION:Campeonato de España 23 \n
URL:https://eccartucho.es/calendario/campeonato-espana-23/
END:VEVENT
END:VCALENDAR